BEGIN:VCALENDAR
PRODID:-//AT Content Types//AT Event//EN
VERSION:2.0
METHOD:PUBLISH
BEGIN:VEVENT
DTSTAMP:20260424T090303Z
CREATED:20231129T111653Z
UID:ATEvent-9872270bccdf4c7da2f2d138ba02d7ef
LAST-MODIFIED:20231129T111654Z
SUMMARY:Spiritual Retreat organised by the province ILA TRINITY
DTSTART:20240301T230000Z
DTEND:20240302T230000Z
LOCATION:Lebanon\, place to be confirmed
CLASS:PUBLIC
END:VEVENT
END:VCALENDAR
