BEGIN:VCALENDAR
PRODID:-//AT Content Types//AT Event//EN
VERSION:2.0
METHOD:PUBLISH
BEGIN:VEVENT
DTSTAMP:20260421T235615Z
CREATED:20251125T150750Z
UID:ATEvent-d05bfb31977d4fc6b709bdb3a9ec38b5
LAST-MODIFIED:20260211T153533Z
SUMMARY:Stations of the Cross. The Sanctuary of the Holy Cross in Cracow (in Mogiła).
DTSTART:20260320T230000Z
DTEND:20260320T230000Z
DESCRIPTION:For the southern provinces of Poland
LOCATION:Cistercian Abbey\, 11 Klasztorna Street\, 31-979 Krakow.
CLASS:PUBLIC
END:VEVENT
END:VCALENDAR
