BEGIN:VCALENDAR
PRODID:-//AT Content Types//AT Event//EN
VERSION:1.0
BEGIN:VEVENT
DTSTART:20230812T220000Z
DTEND:20230817T220000Z
DCREATED:20230126T095735Z
UID:ATEvent-c1f467c7e4f446bdacd7d1f2dba5c823
SEQUENCE:0
LAST-MODIFIED:20230308T160011Z
SUMMARY:Summer camp Slovenia (4/5)
DESCRIPTION:Dates to be confirmed
LOCATION:Portorož\, Slovenia
PRIORITY:3
TRANSP:0
END:VEVENT
END:VCALENDAR
