BEGIN:VCALENDAR
PRODID:-//AT Content Types//AT Event//EN
VERSION:2.0
METHOD:PUBLISH
BEGIN:VEVENT
DTSTAMP:20260421T221325Z
CREATED:20230228T091220Z
UID:ATEvent-43dd6e6d52f744fab384d7b68ab91520
LAST-MODIFIED:20230307T145046Z
SUMMARY:Summer camp for the provinces of Italy
DTSTART:20230818T220000Z
DTEND:20230825T220000Z
LOCATION:Cesenatico
CLASS:PUBLIC
END:VEVENT
END:VCALENDAR
