BEGIN:VCALENDAR
PRODID:-//AT Content Types//AT Event//EN
VERSION:1.0
BEGIN:VEVENT
DTSTART:20220803T220000Z
DTEND:20220806T220000Z
DCREATED:20220622T104328Z
UID:ATEvent-63a400c4561f42719c2ccdc3e12d1a4f
SEQUENCE:0
LAST-MODIFIED:20220622T104333Z
SUMMARY:Summer Camp in Sweden
LOCATION:Vadstena\, Sweden
PRIORITY:3
TRANSP:0
END:VEVENT
END:VCALENDAR
