BEGIN:VCALENDAR
PRODID:-//AT Content Types//AT Event//EN
VERSION:1.0
BEGIN:VEVENT
DTSTART:20260712T220000Z
DTEND:20260718T220000Z
DCREATED:20260211T122337Z
UID:ATEvent-8a8d58e2659e4a96bd99b8b0b1084a46
SEQUENCE:0
LAST-MODIFIED:20260211T122419Z
SUMMARY:Summer camp - Romania
DESCRIPTION:For Romanian communities
LOCATION:Marosfő (Romania)
PRIORITY:3
TRANSP:0
END:VEVENT
END:VCALENDAR
