BEGIN:VCALENDAR
PRODID:-//AT Content Types//AT Event//EN
VERSION:1.0
BEGIN:VEVENT
DTSTART:20220807T220000Z
DTEND:20220813T220000Z
DCREATED:20220421T095422Z
UID:ATEvent-05a5160208b74258bb5e7331a515629b
SEQUENCE:0
LAST-MODIFIED:20220421T095716Z
SUMMARY:Summer camp Slovenia
LOCATION:Soča\, Slovenia
PRIORITY:3
TRANSP:0
END:VEVENT
END:VCALENDAR
