BEGIN:VCALENDAR
PRODID:-//AT Content Types//AT Event//EN
VERSION:1.0
BEGIN:VEVENT
DTSTART:20260716T220000Z
DTEND:20260716T220000Z
DCREATED:20260304T152618Z
UID:ATEvent-39e5d9860ed648df9603ef7c43fc653b
SEQUENCE:0
LAST-MODIFIED:20260304T153514Z
SUMMARY:Talent festival
DESCRIPTION:Province Jesus Light of the Andes\n\nDuring this gathering
 \, friends of the communities share their talents in various fields (d
 ance\, singing\, theatre\, music\, baking\, etc.). \nThe communities s
 end in their videos\, which are shown during the gathering.
LOCATION:Online
PRIORITY:3
TRANSP:0
END:VEVENT
END:VCALENDAR
