BEGIN:VCALENDAR
PRODID:-//AT Content Types//AT Event//EN
VERSION:1.0
BEGIN:VEVENT
DTSTART:20260911T220000Z
DTEND:20260911T220000Z
DCREATED:20260224T091315Z
UID:ATEvent-5fd49ee0ce324d899c8c83ab695e70a9
SEQUENCE:0
LAST-MODIFIED:20260224T093110Z
SUMMARY:Talent show - Province Our Lady of Guadalupe
DESCRIPTION:Each community sends videos of groups wishing to showcase 
 their talents. These can be dance\, music or singing videos.\nThe vide
 os will be broadcast on Facebook and Zoom during their online meeting.
 
LOCATION:Via Zoom
PRIORITY:3
TRANSP:0
END:VEVENT
END:VCALENDAR
