BEGIN:VCALENDAR
PRODID:-//AT Content Types//AT Event//EN
VERSION:1.0
BEGIN:VEVENT
DTSTART:20260130T230000Z
DTEND:20260130T230000Z
DCREATED:20251125T145408Z
UID:ATEvent-cb8b0f52e13e4357b07acdf0237c27ce
SEQUENCE:0
LAST-MODIFIED:20260130T101626Z
SUMMARY:The Feast of Light\, Poland
DESCRIPTION:For the province of Southern Poland
LOCATION:St. Barbara's Parish\, 11 Ks.St. Pieli Street\, Libiąż (Poland)
PRIORITY:3
TRANSP:0
END:VEVENT
END:VCALENDAR
