BEGIN:VCALENDAR
PRODID:-//AT Content Types//AT Event//EN
VERSION:1.0
BEGIN:VEVENT
DTSTART:20251226T230000Z
DTEND:20251226T230000Z
DCREATED:20251114T112846Z
UID:ATEvent-f4d6f5f4adbf4ea39d173da3cefc055b
SEQUENCE:0
LAST-MODIFIED:20251114T112917Z
SUMMARY:The Nelson Cathedral Christmas Tree Festival
DESCRIPTION:For the ‘Living waters’ community
LOCATION:Nelson Cathedral\, 1 Trafalgar Square\, Nelson 7010\, New Zealand
PRIORITY:3
TRANSP:0
END:VEVENT
END:VCALENDAR
