BEGIN:VCALENDAR
PRODID:-//AT Content Types//AT Event//EN
VERSION:2.0
METHOD:PUBLISH
BEGIN:VEVENT
DTSTAMP:20260421T222918Z
CREATED:20250210T084022Z
UID:ATEvent-e08c30f1ccf942aa859b76cc6442bdc3
LAST-MODIFIED:20250210T084023Z
SUMMARY:Time for spiritual renewal for parents in the Faith and Light communities of Croatia
DTSTART:20250213T230000Z
DTEND:20250215T230000Z
LOCATION:“Tabor” House in Samobor near Zagreb
CLASS:PUBLIC
END:VEVENT
END:VCALENDAR
