BEGIN:VCALENDAR
PRODID:-//AT Content Types//AT Event//EN
VERSION:2.0
METHOD:PUBLISH
BEGIN:VEVENT
DTSTAMP:20260421T222846Z
CREATED:20230904T104914Z
UID:ATEvent-e98744937f1f446e9c7ffef8889d29f3
LAST-MODIFIED:20231018T084745Z
SUMMARY:"Together" Gathering of the People of God in Rome
DTSTART:20230929T220000Z
DTEND:20230929T220000Z
DESCRIPTION:Members of Faith and Light from Croatia\, Slovenia and Ita
 ly will participate to this event so as Raul\, the Faith and Light int
 ernational coordinator !
LOCATION:Rome\, Italy
URL:https://together2023.net/info-page/what-is-together/
CLASS:PUBLIC
END:VEVENT
END:VCALENDAR
