BEGIN:VCALENDAR
PRODID:-//AT Content Types//AT Event//EN
VERSION:1.0
BEGIN:VEVENT
DTSTART:20260412T220000Z
DTEND:20260412T220000Z
DCREATED:20260105T120641Z
UID:ATEvent-a022fc637df44cbb8379e3fe264cbb08
SEQUENCE:0
LAST-MODIFIED:20260105T120708Z
SUMMARY:Traditional festival of the city of Salamanca
DESCRIPTION:Communities of Castile \nCelebrated on the Monday followin
 g Easter Sunday
LOCATION:Salamanca\, Spain
PRIORITY:3
TRANSP:0
END:VEVENT
END:VCALENDAR
