BEGIN:VCALENDAR
PRODID:-//AT Content Types//AT Event//EN
VERSION:1.0
BEGIN:VEVENT
DTSTART:20261021T220000Z
DTEND:20261024T220000Z
DCREATED:20260211T124149Z
UID:ATEvent-5512facdf0c94e04a0d537d8b97c861a
SEQUENCE:0
LAST-MODIFIED:20260304T151257Z
SUMMARY:Formation training for coordinators
DESCRIPTION:For the Danube province
LOCATION:Leányfalu (Hungary)
PRIORITY:3
TRANSP:0
END:VEVENT
END:VCALENDAR
