BEGIN:VCALENDAR
PRODID:-//AT Content Types//AT Event//EN
VERSION:2.0
METHOD:PUBLISH
BEGIN:VEVENT
DTSTAMP:20260422T105210Z
CREATED:20260211T094423Z
UID:ATEvent-fc9473208867462ca86c4321cdfd4527
LAST-MODIFIED:20260304T150539Z
SUMMARY:Formation training for parents and friends of Faith and Light
DTSTART:20260320T230000Z
DTEND:20260320T230000Z
DESCRIPTION:For Serbian communities
LOCATION:Tótfalu (Serbia)
CLASS:PUBLIC
END:VEVENT
END:VCALENDAR
