BEGIN:VCALENDAR
PRODID:-//AT Content Types//AT Event//EN
VERSION:1.0
BEGIN:VEVENT
DTSTART:20260604T220000Z
DTEND:20260606T220000Z
DCREATED:20251117T103111Z
UID:ATEvent-f8a91c4c2f094a2d917d83ee03484ac6
SEQUENCE:0
LAST-MODIFIED:20251117T103313Z
SUMMARY:Training retreat for parents\, Ukraine
DESCRIPTION:Training for families with a disabled member \nFor all Ukr
 ainian communities
LOCATION:Ukraine\, exact location to be confirmed
PRIORITY:3
TRANSP:0
END:VEVENT
END:VCALENDAR
