BEGIN:VCALENDAR
PRODID:-//AT Content Types//AT Event//EN
VERSION:1.0
BEGIN:VEVENT
DTSTART:20260622T220000Z
DTEND:20260622T220000Z
DCREATED:20260105T105924Z
UID:ATEvent-0c7602d346604f848e43d813d372e4ba
SEQUENCE:0
LAST-MODIFIED:20260105T110203Z
SUMMARY:treasurers' meeting
DESCRIPTION:Iberatlantica Province
LOCATION:Online\, 7pm
PRIORITY:3
TRANSP:0
END:VEVENT
END:VCALENDAR
