BEGIN:VCALENDAR
PRODID:-//AT Content Types//AT Event//EN
VERSION:2.0
METHOD:PUBLISH
BEGIN:VEVENT
DTSTAMP:20260421T191146Z
CREATED:20251125T085354Z
UID:ATEvent-8e9fca35243e4479b47b6a3cd21b1da4
LAST-MODIFIED:20260129T162338Z
SUMMARY:USA East Assembly
DTSTART:20260716T220000Z
DTEND:20260718T220000Z
DESCRIPTION:Discernment and election of the new provincial coordinator
 
LOCATION:Loyola Retreat Center\, Akron\, Ohio
CLASS:PUBLIC
END:VEVENT
END:VCALENDAR
