BEGIN:VCALENDAR
PRODID:-//AT Content Types//AT Event//EN
VERSION:1.0
BEGIN:VEVENT
DTSTART:20220625T220000Z
DTEND:20220625T220000Z
DCREATED:20220421T082933Z
UID:ATEvent-fa5cd261a0cb42ee9a52323788f0a84a
SEQUENCE:0
LAST-MODIFIED:20220421T082934Z
SUMMARY:Virtual meeting of the communities - province Our Lady of Guadalupe
LOCATION:Zoom
PRIORITY:3
TRANSP:0
END:VEVENT
END:VCALENDAR
