BEGIN:VCALENDAR
PRODID:-//AT Content Types//AT Event//EN
VERSION:2.0
METHOD:PUBLISH
BEGIN:VEVENT
DTSTAMP:20260422T105350Z
CREATED:20220405T154207Z
UID:ATEvent-2fa81f1d17a04fa3b9ab74bbf878fa49
LAST-MODIFIED:20220407T152426Z
SUMMARY:Virtual meeting of the communities - Province Our Lady of Guadalupe
DTSTART:20220423T220000Z
DTEND:20220423T220000Z
LOCATION:Zoom
CLASS:PUBLIC
END:VEVENT
END:VCALENDAR
