BEGIN:VCALENDAR
PRODID:-//AT Content Types//AT Event//EN
VERSION:2.0
METHOD:PUBLISH
BEGIN:VEVENT
DTSTAMP:20260422T155312Z
CREATED:20250210T085112Z
UID:ATEvent-779b938424c84f2baf651a54aebf1842
LAST-MODIFIED:20250210T085112Z
SUMMARY:VIVA! Life\, Family\, Vulnerabilities Forum
DTSTART:20250322T083000Z
DTEND:20250323T170000Z
DESCRIPTION:Find out about more than 50 associations (including Foi et
  Lumière on 23 March) committed to the human person and the service o
 f the common good\, which come together to create a unique support net
 work and offer their expertise in the field.
LOCATION:Parc floral de Paris – porte de Vincennes Accès facile : porte de Vincennes\, RER A et ligne 1\, Parking sur place Accès PMR
URL:https://www.viva-leforum.fr/page/informations/
CLASS:PUBLIC
END:VEVENT
END:VCALENDAR
