BEGIN:VCALENDAR
PRODID:-//AT Content Types//AT Event//EN
VERSION:1.0
BEGIN:VEVENT
DTSTART:20240328T230000Z
DTEND:20240328T230000Z
DCREATED:20231129T085816Z
UID:ATEvent-ed5a049be4374e7eaa0c24a252d3d803
SEQUENCE:0
LAST-MODIFIED:20231129T085946Z
SUMMARY:Way of the cross organized by the province Our Lady of Guadalupe (Mexico)
LOCATION:Zoom
PRIORITY:3
TRANSP:0
END:VEVENT
END:VCALENDAR
