BEGIN:VCALENDAR
PRODID:-//AT Content Types//AT Event//EN
VERSION:2.0
METHOD:PUBLISH
BEGIN:VEVENT
DTSTAMP:20260422T080215Z
CREATED:20230209T153911Z
UID:ATEvent-37a0871fcbc24f718d6b31bf66bbac60
LAST-MODIFIED:20230213T144620Z
SUMMARY:Way of the Cross - Province Jesus Light of the Andes
DTSTART:20230330T220000Z
DTEND:20230330T220000Z
LOCATION:Zoom
CLASS:PUBLIC
END:VEVENT
END:VCALENDAR
