BEGIN:VCALENDAR
PRODID:-//AT Content Types//AT Event//EN
VERSION:2.0
METHOD:PUBLISH
BEGIN:VEVENT
DTSTAMP:20260421T175120Z
CREATED:20250227T100605Z
UID:ATEvent-8b102d8a1de64ef28254bb1537e648ef
LAST-MODIFIED:20250227T101856Z
SUMMARY:Wellness day for family caregivers  in France
DTSTART:20250306T080000Z
DTEND:20250306T153000Z
DESCRIPTION:The theme of the day will be ‘How can I welcome the emot
 ions that cross my mind?’ (in French)
LOCATION:Institut de Bethléem\, 4 chemin de la Censive du Tertre\, 44300 Nantes (France)
URL:https://www.och.fr/evenement/journee-des-proches-aidants-nantes/
CLASS:PUBLIC
END:VEVENT
END:VCALENDAR
