BEGIN:VCALENDAR
PRODID:-//AT Content Types//AT Event//EN
VERSION:2.0
METHOD:PUBLISH
BEGIN:VEVENT
DTSTAMP:20260422T075739Z
CREATED:20251230T132127Z
UID:ATEvent-f3b6067b0a9249c1b12c6e32f221bc95
LAST-MODIFIED:20251230T132238Z
SUMMARY:World Down Syndrome Day
DTSTART:20260320T230000Z
DTEND:20260320T230000Z
LOCATION:All over the world
CLASS:PUBLIC
END:VEVENT
END:VCALENDAR
