BEGIN:VCALENDAR
PRODID:-//AT Content Types//AT Event//EN
VERSION:1.0
BEGIN:VEVENT
DTSTART:20230731T220000Z
DTEND:20230805T220000Z
DCREATED:20221018T080138Z
UID:ATEvent-c4cc3ed3a20c437ea3d11e847dacd8db
SEQUENCE:0
LAST-MODIFIED:20221018T080140Z
SUMMARY:WYD 2023
DESCRIPTION:Faith and Light will be represented in the WYD.
LOCATION:Lisbon\, Portugal
PRIORITY:3
TRANSP:0
END:VEVENT
END:VCALENDAR
