BEGIN:VCALENDAR
PRODID:-//AT Content Types//AT Event//EN
VERSION:1.0
BEGIN:VEVENT
DTSTART:20230624T220000Z
DTEND:20230629T220000Z
DCREATED:20221006T085241Z
UID:ATEvent-bda7b66583be456a89db6893a407d2b0
SEQUENCE:0
LAST-MODIFIED:20221006T085242Z
SUMMARY:Young adults retreat Province of Ireland
LOCATION:Trosly\, France
PRIORITY:3
TRANSP:0
END:VEVENT
END:VCALENDAR
