BEGIN:VCALENDAR
PRODID:-//AT Content Types//AT Event//EN
VERSION:1.0
BEGIN:VEVENT
DTSTART:20220512T220000Z
DTEND:20220514T220000Z
DCREATED:20220421T074944Z
UID:ATEvent-1988fb3ff5cc4c60a7bb7dbfb705d0d0
SEQUENCE:0
LAST-MODIFIED:20220421T074945Z
SUMMARY:Youth formation - province Luzitana
LOCATION:House of S. Paulo in Cortegaça\, Portugal
PRIORITY:3
TRANSP:0
END:VEVENT
END:VCALENDAR
