BEGIN:VCALENDAR
PRODID:-//AT Content Types//AT Event//EN
VERSION:1.0
BEGIN:VEVENT
DTSTART:20230922T220000Z
DTEND:20230922T220000Z
DCREATED:20230210T143504Z
UID:ATEvent-791bd7f1975042eb9d6d4e098fb63509
SEQUENCE:0
LAST-MODIFIED:20230210T145238Z
SUMMARY:Youth meeting and talent festival\,  province Jesus Light of the Andes
PRIORITY:3
TRANSP:0
END:VEVENT
END:VCALENDAR
