BEGIN:VCALENDAR
PRODID:-//AT Content Types//AT Event//EN
VERSION:1.0
BEGIN:VEVENT
DTSTART:20220625T150000Z
DTEND:20220625T180000Z
DCREATED:20220621T103610Z
UID:ATEvent-23853c25e97e4bec8065ca9ed3bd6471
SEQUENCE:0
LAST-MODIFIED:20220706T124255Z
SUMMARY:Youth meeting in the province Jesus Light of the Andes
LOCATION:Zoom
PRIORITY:3
TRANSP:0
END:VEVENT
END:VCALENDAR
