BEGIN:VCALENDAR
PRODID:-//AT Content Types//AT Event//EN
VERSION:1.0
BEGIN:VEVENT
DTSTART:20251212T230000Z
DTEND:20251212T230000Z
DCREATED:20251124T145233Z
UID:ATEvent-1ec31f0b678042bdba49bb311beb726d
SEQUENCE:0
LAST-MODIFIED:20251125T090151Z
SUMMARY:Youth meeting in Valladolid
DESCRIPTION:For the provinces of Terra e Mar and Iberatlántica (organ
 ised by young people from Salamanca)
LOCATION:Valladodid\, Spain
PRIORITY:3
TRANSP:0
END:VEVENT
END:VCALENDAR
