BEGIN:VCALENDAR
PRODID:-//AT Content Types//AT Event//EN
VERSION:2.0
METHOD:PUBLISH
BEGIN:VEVENT
DTSTAMP:20260421T162728Z
CREATED:20220622T075813Z
UID:ATEvent-f416d8c6bcb84319a964da15f531a1b0
LAST-MODIFIED:20220622T101042Z
SUMMARY:Youth retreat for the young people of Ireland
DTSTART:20220625T220000Z
DTEND:20220630T220000Z
DESCRIPTION:Weekend of renewal and encounter for young people (18-25 y
 ears).
LOCATION:Trosly\, France
CLASS:PUBLIC
END:VEVENT
END:VCALENDAR
