BEGIN:VCALENDAR
PRODID:-//AT Content Types//AT Event//EN
VERSION:2.0
METHOD:PUBLISH
BEGIN:VEVENT
DTSTAMP:20260421T174853Z
CREATED:20240611T084533Z
UID:ATEvent-98098210802b442588818377c83f858b
LAST-MODIFIED:20240613T101057Z
SUMMARY:Zone Summer Celebration  - province Beacon of Light
DTSTART:20240818T220000Z
DTEND:20240821T220000Z
LOCATION:Hinsley Hall\, Leeds
CLASS:PUBLIC
END:VEVENT
END:VCALENDAR
