BEGIN:VCALENDAR
PRODID:-//AT Content Types//AT Event//EN
VERSION:2.0
METHOD:PUBLISH
BEGIN:VEVENT
DTSTAMP:20260421T144421Z
CREATED:20251113T111224Z
UID:ATEvent-a5a67b2345be46d890fe27ab56fc8d63
LAST-MODIFIED:20251117T103758Z
SUMMARY:30º aniversario de la comunidad de Évora
DTSTART:20251206T230000Z
DTEND:20251207T230000Z
LOCATION:Évora\, Portugal
CLASS:PUBLIC
END:VEVENT
END:VCALENDAR
