BEGIN:VCALENDAR
PRODID:-//AT Content Types//AT Event//EN
VERSION:1.0
BEGIN:VEVENT
DTSTART:20231201T230000Z
DTEND:20231202T230000Z
DCREATED:20231128T135637Z
UID:ATEvent-f73eead0b5604f2893b5eb6171eb907f
SEQUENCE:0
LAST-MODIFIED:20231129T063659Z
SUMMARY:40 años de Fe y Luz en Republica Dominicana
LOCATION:Consa\, Colegio nuestra Señora de la atagracia Santo Domingo\, los prados\, Republica Dominicana
PRIORITY:3
TRANSP:0
END:VEVENT
END:VCALENDAR
