BEGIN:VCALENDAR
PRODID:-//AT Content Types//AT Event//EN
VERSION:1.0
BEGIN:VEVENT
DTSTART:20250913T220000Z
DTEND:20250913T220000Z
DCREATED:20250227T145834Z
UID:ATEvent-5556b5204cce41f3be30a050c6566222
SEQUENCE:0
LAST-MODIFIED:20250227T145847Z
SUMMARY:Aniversario de la obra Fe y Luz - Provincia Renacer (Brasil)
LOCATION:location B. Jardim esperança\, Aracaju\, Brasil
PRIORITY:3
TRANSP:0
END:VEVENT
END:VCALENDAR
