BEGIN:VCALENDAR
PRODID:-//AT Content Types//AT Event//EN
VERSION:2.0
METHOD:PUBLISH
BEGIN:VEVENT
DTSTAMP:20260420T133205Z
CREATED:20250227T133115Z
UID:ATEvent-d0ab237219014d0db7e6de89846ff9b5
LAST-MODIFIED:20250227T133135Z
SUMMARY:Asamblea de la provincia de Luzitana (Portugal)
DTSTART:20250221T230000Z
DTEND:20250221T230000Z
DESCRIPTION:Elección del coordinador de la provincia de Luzitana y de
 l nuevo equipo provincial.
LOCATION:Para confirmar
CLASS:PUBLIC
END:VEVENT
END:VCALENDAR
