BEGIN:VCALENDAR
PRODID:-//AT Content Types//AT Event//EN
VERSION:1.0
BEGIN:VEVENT
DTSTART:20260716T220000Z
DTEND:20260718T220000Z
DCREATED:20251125T085354Z
UID:ATEvent-c90050d0fb534f0ab66b0bb21c0f7836
SEQUENCE:0
LAST-MODIFIED:20260129T162334Z
SUMMARY:Asamblea de la provincia Este de EE. UU.
DESCRIPTION:Discernimiento y elección del nuevo coordinador provincia
 l
LOCATION:Loyola Retreat Center\, Akron\, Ohio
PRIORITY:3
TRANSP:0
END:VEVENT
END:VCALENDAR
