BEGIN:VCALENDAR
PRODID:-//AT Content Types//AT Event//EN
VERSION:2.0
METHOD:PUBLISH
BEGIN:VEVENT
DTSTAMP:20260421T162613Z
CREATED:20251113T162605Z
UID:ATEvent-4b8ba467ef0f4a9faef6ce7b9dfe1bd0
LAST-MODIFIED:20260224T101932Z
SUMMARY:Asamblea de la provincia Luzitana
DTSTART:20260705T220000Z
DTEND:20260705T220000Z
LOCATION:En línea\, Portugal
CLASS:PUBLIC
END:VEVENT
END:VCALENDAR
