BEGIN:VCALENDAR
PRODID:-//AT Content Types//AT Event//EN
VERSION:2.0
METHOD:PUBLISH
BEGIN:VEVENT
DTSTAMP:20260421T162320Z
CREATED:20260219T142810Z
UID:ATEvent-e560c466e23a40bcb5a828854fb9a56c
LAST-MODIFIED:20260420T065940Z
SUMMARY:Asamblea General de Fe y Luz de Italia
DTSTART:20260604T220000Z
DTEND:20260606T220000Z
DESCRIPTION:Para todas las provincias de Italia.
LOCATION:Centro Pastorale Ambrosiano Via S. Carlo\, 2\, 20822 Seveso MB\, Italia
CLASS:PUBLIC
END:VEVENT
END:VCALENDAR
