BEGIN:VCALENDAR
PRODID:-//AT Content Types//AT Event//EN
VERSION:2.0
METHOD:PUBLISH
BEGIN:VEVENT
DTSTAMP:20260421T174915Z
CREATED:20251128T081250Z
UID:ATEvent-44e0c63e0da84ca5905a2c814867c4c8
LAST-MODIFIED:20260129T165236Z
SUMMARY:Asamblea General - Provincia Canadá Este
DTSTART:20260915T220000Z
DTEND:20260915T220000Z
DESCRIPTION:Para la provincia de Canadá Este. Por Zoom.
LOCATION:En línea (hora por confirmar)
CLASS:PUBLIC
END:VEVENT
END:VCALENDAR
