BEGIN:VCALENDAR
PRODID:-//AT Content Types//AT Event//EN
VERSION:2.0
METHOD:PUBLISH
BEGIN:VEVENT
DTSTAMP:20260422T041406Z
CREATED:20260123T074110Z
UID:ATEvent-a914b19d66594946b9a11602265c3f61
LAST-MODIFIED:20260129T164043Z
SUMMARY:Asamblea provincial
DTSTART:20260910T220000Z
DTEND:20260912T220000Z
DESCRIPTION:Para la provincia de Polonia Central Este\nDiscernimiento 
 y elección del nuevo coordinador provincial
LOCATION:Lugar por confirmar
CLASS:PUBLIC
END:VEVENT
END:VCALENDAR
