BEGIN:VCALENDAR
PRODID:-//AT Content Types//AT Event//EN
VERSION:1.0
BEGIN:VEVENT
DTSTART:20261127T230000Z
DTEND:20261201T230000Z
DCREATED:20260212T133542Z
UID:ATEvent-64951b236f1148a4b46ff45060d4a077
SEQUENCE:0
LAST-MODIFIED:20260413T152849Z
SUMMARY:Asamblea provincial - provincia Arco Iris
DESCRIPTION:Discernimiento y elección del nuevo coordinador provincia
 l.
LOCATION:Rodrigues (Mauricio)
PRIORITY:3
TRANSP:0
END:VEVENT
END:VCALENDAR
