BEGIN:VCALENDAR
PRODID:-//AT Content Types//AT Event//EN
VERSION:1.0
BEGIN:VEVENT
DTSTART:20230207T230000Z
DTEND:20230207T230000Z
DCREATED:20230203T111312Z
UID:ATEvent-cabbacabf0984c2c843faa5c10058dc6
SEQUENCE:0
LAST-MODIFIED:20230203T111318Z
SUMMARY:Asamblea provincial Francia entre dos mares
LOCATION:Videoconferencia
PRIORITY:3
TRANSP:0
END:VEVENT
END:VCALENDAR
