BEGIN:VCALENDAR
PRODID:-//AT Content Types//AT Event//EN
VERSION:1.0
BEGIN:VEVENT
DTSTART:20260529T220000Z
DTEND:20260529T220000Z
DCREATED:20260220T090633Z
UID:ATEvent-9e4843b08d1140aabc3a0aa7fa54cfb2
SEQUENCE:0
LAST-MODIFIED:20260220T090751Z
SUMMARY:Asamblea provincial - Este Eferverscente (Francia)
DESCRIPTION:Discernimiento y elección del coordinador o coordinadores
  provinciales
LOCATION:Portieux\, Francia
PRIORITY:3
TRANSP:0
END:VEVENT
END:VCALENDAR
