BEGIN:VCALENDAR
PRODID:-//AT Content Types//AT Event//EN
VERSION:1.0
BEGIN:VEVENT
DTSTART:20260918T220000Z
DTEND:20260918T220000Z
DCREATED:20260122T164812Z
UID:ATEvent-e675f41864144abfb774cc83bc8dd4cd
SEQUENCE:0
LAST-MODIFIED:20260130T103139Z
SUMMARY:Asamblea Provincial
DESCRIPTION:Provincia de Irlanda\nDiscernimiento y elección del nuevo
  coordinador provincial
LOCATION:Sligo\, Irlanda
PRIORITY:3
TRANSP:0
END:VEVENT
END:VCALENDAR
