BEGIN:VCALENDAR
PRODID:-//AT Content Types//AT Event//EN
VERSION:1.0
BEGIN:VEVENT
DTSTART:20260124T230000Z
DTEND:20260124T230000Z
DCREATED:20251106T111653Z
UID:ATEvent-28912415f6a34e6296b03e6982b1e3ec
SEQUENCE:0
LAST-MODIFIED:20251117T104113Z
SUMMARY:Baile de Fe y Luz en Brno
DESCRIPTION:Para las comunidades checas
LOCATION:Brno\, Republica Checa
PRIORITY:3
TRANSP:0
END:VEVENT
END:VCALENDAR
