BEGIN:VCALENDAR
PRODID:-//AT Content Types//AT Event//EN
VERSION:2.0
METHOD:PUBLISH
BEGIN:VEVENT
DTSTAMP:20260421T162403Z
CREATED:20251106T112219Z
UID:ATEvent-49bb168c110c4500a473f54a3034c36d
LAST-MODIFIED:20251117T103947Z
SUMMARY:Baile de Fe y Luz en Eslovaquia
DTSTART:20260124T230000Z
DTEND:20260124T230000Z
DESCRIPTION:Para las comunidades Eslovacas
LOCATION:Eslovaquia (lugar para confirmar)
CLASS:PUBLIC
END:VEVENT
END:VCALENDAR
