BEGIN:VCALENDAR
PRODID:-//AT Content Types//AT Event//EN
VERSION:2.0
METHOD:PUBLISH
BEGIN:VEVENT
DTSTAMP:20260422T024709Z
CREATED:20260304T155707Z
UID:ATEvent-c6d00e842fc04227a09d7a3cc8f619cd
LAST-MODIFIED:20260304T155721Z
SUMMARY:Bendición de los enfermos
DTSTART:20260628T130000Z
DTEND:20260628T130000Z
DESCRIPTION:Provincia Faros de Luz \n\nSanta Misa seguida de un picnic
  compartido
LOCATION:Iglesia católica Saint Benoît\, Aberford Rd\, Garforth\, Leeds LS25 1PX\, Reino Unido
CLASS:PUBLIC
END:VEVENT
END:VCALENDAR
